BEGIN:VCALENDAR
VERSION:2.0
PRODID:-//Penn Manor School District - ECPv6.15.20//NONSGML v1.0//EN
CALSCALE:GREGORIAN
METHOD:PUBLISH
X-WR-CALNAME:Penn Manor School District
X-ORIGINAL-URL:https://www.pennmanor.net
X-WR-CALDESC:Events for Penn Manor School District
REFRESH-INTERVAL;VALUE=DURATION:PT1H
X-Robots-Tag:noindex
X-PUBLISHED-TTL:PT1H
BEGIN:VTIMEZONE
TZID:America/New_York
BEGIN:DAYLIGHT
TZOFFSETFROM:-0500
TZOFFSETTO:-0400
TZNAME:EDT
DTSTART:20250309T070000
END:DAYLIGHT
BEGIN:STANDARD
TZOFFSETFROM:-0400
TZOFFSETTO:-0500
TZNAME:EST
DTSTART:20251102T060000
END:STANDARD
BEGIN:DAYLIGHT
TZOFFSETFROM:-0500
TZOFFSETTO:-0400
TZNAME:EDT
DTSTART:20260308T070000
END:DAYLIGHT
BEGIN:STANDARD
TZOFFSETFROM:-0400
TZOFFSETTO:-0500
TZNAME:EST
DTSTART:20261101T060000
END:STANDARD
BEGIN:DAYLIGHT
TZOFFSETFROM:-0500
TZOFFSETTO:-0400
TZNAME:EDT
DTSTART:20270314T070000
END:DAYLIGHT
BEGIN:STANDARD
TZOFFSETFROM:-0400
TZOFFSETTO:-0500
TZNAME:EST
DTSTART:20271107T060000
END:STANDARD
END:VTIMEZONE
BEGIN:VEVENT
DTSTART;TZID=America/New_York:20260421T000000
DTEND;TZID=America/New_York:20260423T235959
DTSTAMP:20260420T090338
CREATED:20260114T175943Z
LAST-MODIFIED:20260420T125944Z
UID:132447-1776729600-1776988799@www.pennmanor.net
SUMMARY:PEQ PSSA ELA Testing
DESCRIPTION:
URL:https://www.pennmanor.net/event/pssa-ela-testing/
CATEGORIES:Pequea Elementary School
END:VEVENT
END:VCALENDAR