BEGIN:VCALENDAR
VERSION:2.0
PRODID:-//Penn Manor School District - ECPv6.15.20//NONSGML v1.0//EN
CALSCALE:GREGORIAN
METHOD:PUBLISH
X-WR-CALNAME:Penn Manor School District
X-ORIGINAL-URL:https://www.pennmanor.net
X-WR-CALDESC:Events for Penn Manor School District
REFRESH-INTERVAL;VALUE=DURATION:PT1H
X-Robots-Tag:noindex
X-PUBLISHED-TTL:PT1H
BEGIN:VTIMEZONE
TZID:America/New_York
BEGIN:DAYLIGHT
TZOFFSETFROM:-0500
TZOFFSETTO:-0400
TZNAME:EDT
DTSTART:20250309T070000
END:DAYLIGHT
BEGIN:STANDARD
TZOFFSETFROM:-0400
TZOFFSETTO:-0500
TZNAME:EST
DTSTART:20251102T060000
END:STANDARD
BEGIN:DAYLIGHT
TZOFFSETFROM:-0500
TZOFFSETTO:-0400
TZNAME:EDT
DTSTART:20260308T070000
END:DAYLIGHT
BEGIN:STANDARD
TZOFFSETFROM:-0400
TZOFFSETTO:-0500
TZNAME:EST
DTSTART:20261101T060000
END:STANDARD
BEGIN:DAYLIGHT
TZOFFSETFROM:-0500
TZOFFSETTO:-0400
TZNAME:EDT
DTSTART:20270314T070000
END:DAYLIGHT
BEGIN:STANDARD
TZOFFSETFROM:-0400
TZOFFSETTO:-0500
TZNAME:EST
DTSTART:20271107T060000
END:STANDARD
END:VTIMEZONE
BEGIN:VEVENT
DTSTART;TZID=America/New_York:20260427T161500
DTEND;TZID=America/New_York:20260427T181500
DTSTAMP:20260420T085736
CREATED:20240912T165242Z
LAST-MODIFIED:20260420T121523Z
UID:56347-1777306500-1777313700@www.pennmanor.net
SUMMARY:Girls Varsity Softball @ Hempfield Senior High School
DESCRIPTION:Sport: Softball\nLevel: Girls Varsity\nTeam: Penn Manor High School\nSite: Hempfield Senior High School\nSubsite: Softball Diamond – Field 9
URL:https://www.pennmanor.net/event/girls-varsity-softball-hempfield-senior-high-school-3/
LOCATION:200 Stanley Ave\, Landisville\, PA\, United States
CATEGORIES:Athletics
GEO:40.09537;-76.40996
END:VEVENT
END:VCALENDAR