BEGIN:VCALENDAR
VERSION:2.0
PRODID:-//Penn Manor School District - ECPv6.15.20//NONSGML v1.0//EN
CALSCALE:GREGORIAN
METHOD:PUBLISH
X-WR-CALNAME:Penn Manor School District
X-ORIGINAL-URL:https://www.pennmanor.net
X-WR-CALDESC:Events for Penn Manor School District
REFRESH-INTERVAL;VALUE=DURATION:PT1H
X-Robots-Tag:noindex
X-PUBLISHED-TTL:PT1H
BEGIN:VTIMEZONE
TZID:America/New_York
BEGIN:DAYLIGHT
TZOFFSETFROM:-0500
TZOFFSETTO:-0400
TZNAME:EDT
DTSTART:20250309T070000
END:DAYLIGHT
BEGIN:STANDARD
TZOFFSETFROM:-0400
TZOFFSETTO:-0500
TZNAME:EST
DTSTART:20251102T060000
END:STANDARD
BEGIN:DAYLIGHT
TZOFFSETFROM:-0500
TZOFFSETTO:-0400
TZNAME:EDT
DTSTART:20260308T070000
END:DAYLIGHT
BEGIN:STANDARD
TZOFFSETFROM:-0400
TZOFFSETTO:-0500
TZNAME:EST
DTSTART:20261101T060000
END:STANDARD
BEGIN:DAYLIGHT
TZOFFSETFROM:-0500
TZOFFSETTO:-0400
TZNAME:EDT
DTSTART:20270314T070000
END:DAYLIGHT
BEGIN:STANDARD
TZOFFSETFROM:-0400
TZOFFSETTO:-0500
TZNAME:EST
DTSTART:20271107T060000
END:STANDARD
END:VTIMEZONE
BEGIN:VEVENT
DTSTART;TZID=America/New_York:20260416T190000
DTEND;TZID=America/New_York:20260416T210000
DTSTAMP:20260420T090621
CREATED:20240912T165241Z
LAST-MODIFIED:20260417T001444Z
UID:56318-1776366000-1776373200@www.pennmanor.net
SUMMARY:Boys Varsity Volleyball vs Ephrata High School
DESCRIPTION:Sport: Volleyball\nLevel: Boys Varsity\nTeam: Penn Manor High School\nSite: Penn Manor High School\nSubsite: High School East Gym
URL:https://www.pennmanor.net/event/boys-varsity-volleyball-vs-ephrata-high-school-2/
LOCATION:100 E. Cottage Ave\, Millersville\, PA\, United States
CATEGORIES:Athletics
GEO:39.99788;-76.35413
END:VEVENT
END:VCALENDAR