BEGIN:VCALENDAR
VERSION:2.0
PRODID:-//Penn Manor School District - ECPv6.15.20//NONSGML v1.0//EN
CALSCALE:GREGORIAN
METHOD:PUBLISH
X-WR-CALNAME:Penn Manor School District
X-ORIGINAL-URL:https://www.pennmanor.net
X-WR-CALDESC:Events for Penn Manor School District
REFRESH-INTERVAL;VALUE=DURATION:PT1H
X-Robots-Tag:noindex
X-PUBLISHED-TTL:PT1H
BEGIN:VTIMEZONE
TZID:America/New_York
BEGIN:DAYLIGHT
TZOFFSETFROM:-0500
TZOFFSETTO:-0400
TZNAME:EDT
DTSTART:20250309T070000
END:DAYLIGHT
BEGIN:STANDARD
TZOFFSETFROM:-0400
TZOFFSETTO:-0500
TZNAME:EST
DTSTART:20251102T060000
END:STANDARD
BEGIN:DAYLIGHT
TZOFFSETFROM:-0500
TZOFFSETTO:-0400
TZNAME:EDT
DTSTART:20260308T070000
END:DAYLIGHT
BEGIN:STANDARD
TZOFFSETFROM:-0400
TZOFFSETTO:-0500
TZNAME:EST
DTSTART:20261101T060000
END:STANDARD
BEGIN:DAYLIGHT
TZOFFSETFROM:-0500
TZOFFSETTO:-0400
TZNAME:EDT
DTSTART:20270314T070000
END:DAYLIGHT
BEGIN:STANDARD
TZOFFSETFROM:-0400
TZOFFSETTO:-0500
TZNAME:EST
DTSTART:20271107T060000
END:STANDARD
END:VTIMEZONE
BEGIN:VEVENT
DTSTART;TZID=America/New_York:20260421T160000
DTEND;TZID=America/New_York:20260421T180000
DTSTAMP:20260420T085846
CREATED:20251103T161454Z
LAST-MODIFIED:20260219T200304Z
UID:111144-1776787200-1776794400@www.pennmanor.net
SUMMARY:Boys 7/8/9th Track & Field - Outdoor @ LANCASTER Wheatland Middle School
DESCRIPTION:Sport: Track & Field – Outdoor\nLevel: Boys 7/8/9th\nTeam: Penn Manor High School\nSite: JP McCaskey High School\nSubsite: McCaskey Track
URL:https://www.pennmanor.net/event/boys-7-8-9th-track-outdoor-lancaster-wheatland-middle-school/
LOCATION:445 N. Reservoir Street\, Lancaster\, PA\, United States
CATEGORIES:Athletics
GEO:40.004048;-76.249829
END:VEVENT
END:VCALENDAR